BEGIN:VCALENDAR
VERSION:2.0
PRODID:-//EcoAction Arlington - ECPv6.15.20//NONSGML v1.0//EN
CALSCALE:GREGORIAN
METHOD:PUBLISH
X-ORIGINAL-URL:https://www.ecoactionarlington.org
X-WR-CALDESC:Events for EcoAction Arlington
REFRESH-INTERVAL;VALUE=DURATION:PT1H
X-Robots-Tag:noindex
X-PUBLISHED-TTL:PT1H
BEGIN:VTIMEZONE
TZID:America/New_York
BEGIN:DAYLIGHT
TZOFFSETFROM:-0500
TZOFFSETTO:-0400
TZNAME:EDT
DTSTART:20240310T070000
END:DAYLIGHT
BEGIN:STANDARD
TZOFFSETFROM:-0400
TZOFFSETTO:-0500
TZNAME:EST
DTSTART:20241103T060000
END:STANDARD
BEGIN:DAYLIGHT
TZOFFSETFROM:-0500
TZOFFSETTO:-0400
TZNAME:EDT
DTSTART:20250309T070000
END:DAYLIGHT
BEGIN:STANDARD
TZOFFSETFROM:-0400
TZOFFSETTO:-0500
TZNAME:EST
DTSTART:20251102T060000
END:STANDARD
BEGIN:DAYLIGHT
TZOFFSETFROM:-0500
TZOFFSETTO:-0400
TZNAME:EDT
DTSTART:20260308T070000
END:DAYLIGHT
BEGIN:STANDARD
TZOFFSETFROM:-0400
TZOFFSETTO:-0500
TZNAME:EST
DTSTART:20261101T060000
END:STANDARD
END:VTIMEZONE
BEGIN:VEVENT
DTSTART;TZID=America/New_York:20250430T180000
DTEND;TZID=America/New_York:20250430T190000
DTSTAMP:20260420T152611
CREATED:20250317T151640Z
LAST-MODIFIED:20250801T175925Z
UID:31644-1746036000-1746039600@www.ecoactionarlington.org
SUMMARY:Home Efficiency 101
DESCRIPTION:Online Webinar \n\n\n\n\n\n\nLooking for some help making your home more energy efficient? Join this virtual event to explore simple steps to save energy in your home.  \n\n\n\nThe class will be led by trained Energy Masters volunteers with time for participants to “Ask an Energy Master” for help and guidance with your current energy saving journey. The talk will focus on activities that help reduce your energy consumption and save money on utility bills.  \n\n\n\nRegistration is required.  \n\n\n\n\n\n\n\n\n\n REGISTRATION & MORE INFO
URL:https://www.ecoactionarlington.org/event/home-efficiency-101/
CATEGORIES:EcoAction Arlington Event,Energy Masters
ATTACH;FMTTYPE=image/png:https://www.ecoactionarlington.org/wp-content/uploads/2025/03/Energy-Masters-Webinar-Events.png
ORGANIZER;CN="Energy Masters":MAILTO:bill@ecoactionarlington.org
END:VEVENT
BEGIN:VEVENT
DTSTART;TZID=America/New_York:20250424T180000
DTEND;TZID=America/New_York:20250424T200000
DTSTAMP:20260420T152611
CREATED:20250213T174251Z
LAST-MODIFIED:20250801T175916Z
UID:31228-1745517600-1745524800@www.ecoactionarlington.org
SUMMARY:7th Annual EcoExtravaganza
DESCRIPTION:Join EcoAction Arlington at the seventh-annual EcoExtravaganza on the patio at Clare & Don’s Beach Shack on Thursday April 24 during Earth Month for a FUNdraiser! \n\n\n\n\nECOEXTRAVAGANZA\n\n\n\nCELEBRATE\, SUPPORT\, SUSTAIN\, ACT!\n\n\n\nApril 24\, 20256-8 PMClare & Don’s Beach Shack Patio130 N Washington Street$40/PersonStudents 25 & under free with a valid student ID. RSVP Required. \n\n\n\n\nGet more details and tickets…\n\n\n\n\n\n\nThis year we are making large changes around our annual EcoExtravaganza. In reaction to tremendous cuts made to our program funding we are pivoting to turning our favorite April get together into a huge FUNdraiser to support EcoAction Arlington. Please buy your tickets today\, get ready to raise your paddles\, and join us during Earth Month. Dinner will be provided with your ticket purchase\, and a cash bar will be available. \n\n\n\n\n\n\nTICKETS & MORE INFO
URL:https://www.ecoactionarlington.org/event/7th-annual-ecoextravaganza/
LOCATION:Clare & Don’s Beach Shack\, 130 N Washington Street\, Falls Church\, Virginia\, 22046
CATEGORIES:EcoAction Arlington Event
ATTACH;FMTTYPE=image/png:https://www.ecoactionarlington.org/wp-content/uploads/2025/03/ECOEX-Events.png
ORGANIZER;CN="EcoAction Arlington":MAILTO:office@ecoactionarlington.org
END:VEVENT
BEGIN:VEVENT
DTSTART;TZID=America/New_York:20250422T170000
DTEND;TZID=America/New_York:20250422T190000
DTSTAMP:20260420T152611
CREATED:20250311T190805Z
LAST-MODIFIED:20250801T175910Z
UID:31569-1745341200-1745348400@www.ecoactionarlington.org
SUMMARY:Earth Day Stream Cleanup
DESCRIPTION:Join us in taking EcoAction at Bon Air Park to remove litter and trash from the stream and park on Earth Day\, April 22\, 2025 from 5-7pm. This event is family friendly; all children under the age of 16 must be accompanied by an adult. Groups are welcome to register and attend. Please register each individual attendee in accordance with our Service Project Waiver. \n\n\n\nRegistration required. Register now. \n\n\n\n\n\n\n\nREGISTRATION & MORE INFO
URL:https://www.ecoactionarlington.org/event/earth-day-stream-cleanup/
LOCATION:Bon Air Park\, 850 N Lexington St\, Arlington\, VA\, 22205\, United States
CATEGORIES:EcoAction Arlington Event,Volunteer Opportunity
ATTACH;FMTTYPE=image/png:https://www.ecoactionarlington.org/wp-content/uploads/2025/03/2025-earth-day-cleanup_web.png
ORGANIZER;CN="EcoAction Arlington":MAILTO:office@ecoactionarlington.org
END:VEVENT
BEGIN:VEVENT
DTSTART;TZID=America/New_York:20250319T180000
DTEND;TZID=America/New_York:20250319T200000
DTSTAMP:20260420T152611
CREATED:20250213T173323Z
LAST-MODIFIED:20250801T175900Z
UID:31223-1742407200-1742414400@www.ecoactionarlington.org
SUMMARY:Volunteer Leadership Training
DESCRIPTION:Learn how to become an EcoAction Arlington Volunteer Leader!\n\n\n\n\nDuring this 2 hour hands-on training\, you will build the skills needed to become leaders and stewards of our land\, water\, and community. This is a great opportunity for you to learn how to make an impact and support our efforts right here in Arlington! This training will equip you with the skills needed to lead events and initiatives on behalf of EcoAction Arlington\, where you will learn more about our three important volunteer leadership roles: \n\n\n\nAdvocacy Leaders – learn how to represent EcoAction Arlington at County Board meetings\, send letters to the Board\, and engage in policy issues. \n\n\n\nService Project Leaders – learn how to run service projects: why we do them\, types of cleanups\, safety\, procedures\, equipment\, scheduling\, and more. \n\n\n\nOutreach Leaders – learn how to represent EcoAction Arlington at outreach events\, schools\, fairs; our mission and vision\, FAQs about us\, special presentations\, membership recruiting\, etc. \n\n\n\n\n\n\n\nRegister & More info
URL:https://www.ecoactionarlington.org/event/volunteer-leadership-training/
LOCATION:Farlington Community Center\, 3308 S Stafford Street\, Arlington\, Virginia\, 22206
CATEGORIES:EcoAction Arlington Event,Volunteer Opportunity
ATTACH;FMTTYPE=image/webp:https://www.ecoactionarlington.org/wp-content/uploads/2025/02/calling-all-volunteers-e1741887620358.webp
ORGANIZER;CN="EcoAction Arlington":MAILTO:office@ecoactionarlington.org
END:VEVENT
BEGIN:VEVENT
DTSTART;TZID=America/New_York:20250305T183000
DTEND;TZID=America/New_York:20250305T210000
DTSTAMP:20260420T152611
CREATED:20250212T214827Z
LAST-MODIFIED:20250801T175852Z
UID:31178-1741199400-1741208400@www.ecoactionarlington.org
SUMMARY:47th Annual Meeting
DESCRIPTION:Get Green Arlington: Powerful Actions Today for a Sustainable Tomorrow. \n\n\n\nA reception consisting of light refreshments will be held from 6:30 to 7 p.m. The reception will be followed by an overview of EcoAction Arlington programming for 2025\, the election of our board of directors\, a featured presentation\, and interactive breakout sessions to learn about how you can contribute to making Arlington more sustainable. \n\n\n\nWhile donations are not required to attend this event\, they are appreciated to further support our programming efforts. Everyone who has donated $35 or more within the last year is eligible as an EcoAction Arlington member to vote during our board of directors election. If you would like to become a member\, please donate $35 when registering. \n\n\n\n\n\n\n\n\n\nRSVP here »
URL:https://www.ecoactionarlington.org/event/47th-annual-meeting/
LOCATION:Washington Liberty High School\, 1301 N Stafford Street\, Arlington\, Virginia\, 22201
CATEGORIES:EcoAction Arlington Event
ATTACH;FMTTYPE=image/png:https://www.ecoactionarlington.org/wp-content/uploads/2025/02/Annual-Meeting-e1741888378838.png
END:VEVENT
BEGIN:VEVENT
DTSTART;TZID=America/New_York:20250225T173000
DTEND;TZID=America/New_York:20250225T193000
DTSTAMP:20260420T152611
CREATED:20250212T213352Z
LAST-MODIFIED:20250801T175844Z
UID:31168-1740504600-1740511800@www.ecoactionarlington.org
SUMMARY:Annual Volunteer Social
DESCRIPTION:Take your eco-action to the next level at our annual volunteer social!\n\n\n\n\nAt this Listen & Learn event you will discover more about our committees\, programs\, volunteer opportunities\, and how you can support our mission to educate\, advocate\, and act to create a sustainable community by improving our natural environment\, encouraging environmentally-friendly behaviors\, ensuring environmental justice\, and addressing the climate crisis. You’ll mix and mingle with fellow eco-passionate community members\, participate in small group discussions\, and you could even win a raffle! \n\n\n\nWe need leaders like you to support our efforts for a cleaner and more sustainable Arlington! \n\n\n\nEvent Itinerary: \n\n\n\n5:30 – 6:00 p.m. – Socialize and Snack6:00 – 6:30 p.m. – Program and Speakers6:30 – 6:35 p.m. – Raffle Drawing6:35 – 7:20 p.m. – Mingling/Question and Answers with Leaders; Completion of Volunteer Interest Forms7:20 – 7:30 p.m. – Adjourn*timing subject to change \n\n\n\nWhile donations are not required to attend this event\, they are appreciated to further support our programming efforts! \n\n\n\n\n\n\n\n\n\n\n\nRSVP here »
URL:https://www.ecoactionarlington.org/event/annual-volunteer-social-2025/
LOCATION:Amazon Visitor Landing Space\, 545 15th Street South\, Arlington\, Virginia\, 22202
CATEGORIES:EcoAction Arlington Event
ATTACH;FMTTYPE=image/jpeg:https://www.ecoactionarlington.org/wp-content/uploads/2025/02/annual-volunteer-social.jpg
END:VEVENT
BEGIN:VEVENT
DTSTART;TZID=America/New_York:20250222T100000
DTEND;TZID=America/New_York:20250222T120000
DTSTAMP:20260420T152611
CREATED:20250219T171518Z
LAST-MODIFIED:20250801T175835Z
UID:31300-1740218400-1740225600@www.ecoactionarlington.org
SUMMARY:Climate Resolution Rally
DESCRIPTION:Please join us in celebrating the Arlington County Board’s adoption of a Climate Resolution. This resolution recognizes the threat of climate change to the planet and the need to develop effective\, just\, and equitable policies to combat the climate crisis. To commemorate this milestone\, we will gather in the County Board room (3rd floor) to watch the adoption of the resolution. We will then convene in Courthouse Plaza (by the Metro entrance) for a celebration rally. In the event of inclement weather\, the celebration will be moved indoors by the information desk. Please bring handheld signs to support Arlington climate action! \n\n\n\n\nNote: All times are estimates based on current information available from the County Board office. The exact timing of the resolution vote and celebration rally are subject to change. \n\n\n\nFree. RSVP requested\, but not required. Feel free to come to all or part of the rally\, bring a loved one and signs of appreciation (handheld)! \n\n\n\n\n\n\n\n\n\n\nSchedule: The resolution vote is the first item on the agenda after the consent items\, and we estimate it will occur between 10:00 and 11:00 a.m. After the vote\, we will gather for a short program and celebration outside on Courthouse Plaza concluding at 12:00 p.m. If your time is limited\, you are welcome to come for either the board vote or the celebration rally. \n\n\n\nSpeakers Needed: please also consider signing up to speak during this agenda item for a two- or three-minute slot about why addressing climate change is important to you Details on how to sign up are available on the County’s website. \n\n\n\n\nMore information and tips on speaking at the County Board Meeting
URL:https://www.ecoactionarlington.org/event/climate-resolution-rally/
LOCATION:Bozman Government Center\, Arlington Va\, 2100 Clarendon Blvd\, Arlington\, Virginia\, 22201\, United States
CATEGORIES:Co-sponsored event,EcoAction Arlington Event
END:VEVENT
END:VCALENDAR